BEGIN:VCALENDAR
VERSION:2.0
PRODID:-//eventon.com NONSGML v1.0//EN
BEGIN:VEVENT
UID:69ea3c5fc0f3b
DTSTAMP:20260423T173559
DTSTART:20250114T161500Z
DTEND:20250114T170000Z
LOCATION:Vereinshalle in Leisel Hauptstr. 39\,  55767 Leisel
SUMMARY:Dienstags - Rheasport Gruppe 1
DESCRIPTION: Jede Woche bieten wir Reha-Sport mit einer zertifizierten Trainerin für Mitglieder und Nicht-Mitglieder an. Reha-Sport bietet Menschen mit gesundheitlichen\,  insbesondere orthopädischen Einschränkungen ein optimales Bewegungstraining.
END:VEVENT
END:VCALENDAR